BEGIN:VCALENDAR
VERSION:2.0
PRODID:-//Calgary Zone - ECPv6.15.13//NONSGML v1.0//EN
CALSCALE:GREGORIAN
METHOD:PUBLISH
X-ORIGINAL-URL:https://www.skipatrol.ca/calgary
X-WR-CALDESC:Events for Calgary Zone
REFRESH-INTERVAL;VALUE=DURATION:PT1H
X-Robots-Tag:noindex
X-PUBLISHED-TTL:PT1H
BEGIN:VTIMEZONE
TZID:America/Edmonton
BEGIN:DAYLIGHT
TZOFFSETFROM:-0700
TZOFFSETTO:-0600
TZNAME:MDT
DTSTART:20250309T090000
END:DAYLIGHT
BEGIN:STANDARD
TZOFFSETFROM:-0600
TZOFFSETTO:-0700
TZNAME:MST
DTSTART:20251102T080000
END:STANDARD
BEGIN:DAYLIGHT
TZOFFSETFROM:-0700
TZOFFSETTO:-0600
TZNAME:MDT
DTSTART:20260308T090000
END:DAYLIGHT
BEGIN:STANDARD
TZOFFSETFROM:-0600
TZOFFSETTO:-0700
TZNAME:MST
DTSTART:20261101T080000
END:STANDARD
BEGIN:DAYLIGHT
TZOFFSETFROM:-0700
TZOFFSETTO:-0600
TZNAME:MDT
DTSTART:20270314T090000
END:DAYLIGHT
BEGIN:STANDARD
TZOFFSETFROM:-0600
TZOFFSETTO:-0700
TZNAME:MST
DTSTART:20271107T080000
END:STANDARD
END:VTIMEZONE
BEGIN:VEVENT
DTSTART;VALUE=DATE:20260118
DTEND;VALUE=DATE:20260124
DTSTAMP:20260423T113825
CREATED:20260225T200914Z
LAST-MODIFIED:20260225T200914Z
UID:10204-1768694400-1769212799@www.skipatrol.ca
SUMMARY:2026 Mountain Division Ski Improvement Clinic Week 1
DESCRIPTION:
URL:https://www.skipatrol.ca/calgary/event/2026-mountain-division-ski-improvement-clinic-week-1/
LOCATION:Kicking Horse Mountain Resort\, 1500 Kicking Horse Trail\, Golden\, British Columbia\, V0A 1H0\, Canada
ORGANIZER;CN="Geoff Scotton":MAILTO:geoff.scotton@skipatrol.ca
END:VEVENT
END:VCALENDAR