BEGIN:VCALENDAR
VERSION:2.0
PRODID:-//Calgary Zone - ECPv6.15.13//NONSGML v1.0//EN
CALSCALE:GREGORIAN
METHOD:PUBLISH
X-ORIGINAL-URL:https://www.skipatrol.ca/calgary
X-WR-CALDESC:Events for Calgary Zone
REFRESH-INTERVAL;VALUE=DURATION:PT1H
X-Robots-Tag:noindex
X-PUBLISHED-TTL:PT1H
BEGIN:VTIMEZONE
TZID:America/Edmonton
BEGIN:DAYLIGHT
TZOFFSETFROM:-0700
TZOFFSETTO:-0600
TZNAME:MDT
DTSTART:20250309T090000
END:DAYLIGHT
BEGIN:STANDARD
TZOFFSETFROM:-0600
TZOFFSETTO:-0700
TZNAME:MST
DTSTART:20251102T080000
END:STANDARD
BEGIN:DAYLIGHT
TZOFFSETFROM:-0700
TZOFFSETTO:-0600
TZNAME:MDT
DTSTART:20260308T090000
END:DAYLIGHT
BEGIN:STANDARD
TZOFFSETFROM:-0600
TZOFFSETTO:-0700
TZNAME:MST
DTSTART:20261101T080000
END:STANDARD
BEGIN:DAYLIGHT
TZOFFSETFROM:-0700
TZOFFSETTO:-0600
TZNAME:MDT
DTSTART:20270314T090000
END:DAYLIGHT
BEGIN:STANDARD
TZOFFSETFROM:-0600
TZOFFSETTO:-0700
TZNAME:MST
DTSTART:20271107T080000
END:STANDARD
END:VTIMEZONE
BEGIN:VEVENT
DTSTART;TZID=America/Edmonton:20260301T080000
DTEND;TZID=America/Edmonton:20260301T170000
DTSTAMP:20260423T044352
CREATED:20251006T013943Z
LAST-MODIFIED:20251006T013943Z
UID:9835-1772352000-1772384400@www.skipatrol.ca
SUMMARY:Alpine Ski/Board Evaluation for New Patrollers
DESCRIPTION:This ski ability assessment is for alpine skiers/snowboarders (our Nordic patrol has a different assessment system). For your safety and your future patients’ safety\, we must ensure you have strong intermediate to advanced ski/snowboard skills. The cost is $125 and is non-refundable if you do not pass or cannot attend. You must register in advance. Registration opens in mid-February. Space is limited. We only offer one ski ability evaluation date each year.
URL:https://www.skipatrol.ca/calgary/event/alpine-ski-board-evaluation-for-new-patrollers-2/
LOCATION:Lake Louise Ski Resort\, 1 Whitehorn Rd\, Lake Louise\, AB\, T0L 1E0\, Canada
CATEGORIES:Members' Calendar,Public
ORGANIZER;CN="Zach Skoko":MAILTO:joincalgary@skipatrol.ca
END:VEVENT
END:VCALENDAR