BEGIN:VCALENDAR
VERSION:2.0
PRODID:-//Calgary Zone - ECPv6.15.13//NONSGML v1.0//EN
CALSCALE:GREGORIAN
METHOD:PUBLISH
X-ORIGINAL-URL:https://www.skipatrol.ca/calgary
X-WR-CALDESC:Events for Calgary Zone
REFRESH-INTERVAL;VALUE=DURATION:PT1H
X-Robots-Tag:noindex
X-PUBLISHED-TTL:PT1H
BEGIN:VTIMEZONE
TZID:America/Edmonton
BEGIN:DAYLIGHT
TZOFFSETFROM:-0700
TZOFFSETTO:-0600
TZNAME:MDT
DTSTART:20250309T090000
END:DAYLIGHT
BEGIN:STANDARD
TZOFFSETFROM:-0600
TZOFFSETTO:-0700
TZNAME:MST
DTSTART:20251102T080000
END:STANDARD
BEGIN:DAYLIGHT
TZOFFSETFROM:-0700
TZOFFSETTO:-0600
TZNAME:MDT
DTSTART:20260308T090000
END:DAYLIGHT
BEGIN:STANDARD
TZOFFSETFROM:-0600
TZOFFSETTO:-0700
TZNAME:MST
DTSTART:20261101T080000
END:STANDARD
BEGIN:DAYLIGHT
TZOFFSETFROM:-0700
TZOFFSETTO:-0600
TZNAME:MDT
DTSTART:20270314T090000
END:DAYLIGHT
BEGIN:STANDARD
TZOFFSETFROM:-0600
TZOFFSETTO:-0700
TZNAME:MST
DTSTART:20271107T080000
END:STANDARD
END:VTIMEZONE
BEGIN:VEVENT
DTSTART;VALUE=DATE:20260327
DTEND;VALUE=DATE:20260404
DTSTAMP:20260423T025027
CREATED:20250310T140313Z
LAST-MODIFIED:20250324T145044Z
UID:9146-1774569600-1775260799@www.skipatrol.ca
SUMMARY:Fédération Internationale des Patrouilles de Ski (FIPS) XXV World Congress
DESCRIPTION:The Canadian Ski Patrol is proud to announce that it will host the Fédération Internationale des Patrouilles de Ski (FIPS) XXV World Congress in Canada in 2026. The event will be held at Big White Ski Resort near Kelowna\, B.C. from March 27 to April 3\, 2026: \n“We are excited to return to Big White Ski Resort as it has the terrain and facilities to support the professional development of ski patrollers and organizations worldwide\,” notes Stephane Niles\, board chair of the CSP. “The CSP is a founding member of FIPS\, with the inaugural meeting held in Canada in 1979. The first\, and long-time president of FIPS was Mark Labow\, a life member of the CSP. The world congress has been held in Canada twice since 1979; in Calgary in 1993 and at Big White in 2014.” \nThe Fédération Internationale des Patrouilles de Ski is an international organization representing ski patrol and associated ski safety organizations with membership from 17 countries and associate members. These patrol and safety organizations comprise full time and volunteer ski patrollers\, doctors\, lawyers\, engineers\, technicians\, ski equipment instructors\, ski area managers\, etc.\, who are involved in the multidisciplinary activities of ski patrolling and safety. \nMarie Nordgren\, president of FIPS said\, “Fédération Internationale des Patrouilles de Ski (FIPS) is extremely pleased to hold its XXV World Congress in North America and Canada for the first time since 2014. The Canadian Ski Patrol is the host FIPS member and has selected Big White Ski Resort as the venue for March 2026\, and will welcome member organizations from 17 countries. This is the second time the World Congress will be held at Big White\, where the facilities and terrain provide the ideal setting for professional development of patrolling skills and knowledge.” \nThe FIPS World Congress program is developed by the special interest groups (SIG) that are part of FIPS. Topics relevant to ski patrolling include medical treatment and protocols\, on snow transport\, technology\, avalanche safety including use of rescue dogs\, support for persons with disabilities\, and risk management. At the congress\, the professional development program is provided through the week indoors in lecture sessions\, and outside on the slopes with on-site learning and scenarios. \nThe CSP will work with FIPS to confirm the program and the registration process with plans to open registration in the fall of 2025. Further announcements will be made as plans develop.
URL:https://www.skipatrol.ca/calgary/event/federation-internationale-des-patrouilles-de-ski-fips-xxv-world-congress/
LOCATION:Big White Ski Resort\, 5315 Big White Road\, Kelowna\, British Columbia\, V1P 1T4\, Canada
CATEGORIES:Members' Calendar,Public
END:VEVENT
BEGIN:VEVENT
DTSTART;TZID=America/Edmonton:20260329T080000
DTEND;TZID=America/Edmonton:20260329T170000
DTSTAMP:20260423T025027
CREATED:20251006T014408Z
LAST-MODIFIED:20260127T053913Z
UID:9840-1774771200-1774803600@www.skipatrol.ca
SUMMARY:Norquay Ski Around
DESCRIPTION:
URL:https://www.skipatrol.ca/calgary/event/norquay-ski-around-3/
LOCATION:Mount Norquay\, Mt Norquay\, Banff\, AB\, T1L 1B4\, Canada
CATEGORIES:Members' Calendar,Public
ORGANIZER;CN="Jon Neufeld":MAILTO:jonneufeld@gmail.com
END:VEVENT
END:VCALENDAR