BEGIN:VCALENDAR
VERSION:2.0
PRODID:-//Canadian Ski Patrol - Gatineau Zone / Patrouille Canadienne de Ski - Zone de Gatineau - ECPv6.15.13//NONSGML v1.0//EN
CALSCALE:GREGORIAN
METHOD:PUBLISH
X-WR-CALNAME:Canadian Ski Patrol - Gatineau Zone / Patrouille Canadienne de Ski - Zone de Gatineau
X-ORIGINAL-URL:https://www.skipatrol.ca/gatineau/fr/
X-WR-CALDESC:Événements pour Canadian Ski Patrol - Gatineau Zone / Patrouille Canadienne de Ski - Zone de Gatineau
REFRESH-INTERVAL;VALUE=DURATION:PT1H
X-Robots-Tag:noindex
X-PUBLISHED-TTL:PT1H
BEGIN:VTIMEZONE
TZID:America/Toronto
BEGIN:DAYLIGHT
TZOFFSETFROM:-0500
TZOFFSETTO:-0400
TZNAME:EDT
DTSTART:20250309T070000
END:DAYLIGHT
BEGIN:STANDARD
TZOFFSETFROM:-0400
TZOFFSETTO:-0500
TZNAME:EST
DTSTART:20251102T060000
END:STANDARD
BEGIN:DAYLIGHT
TZOFFSETFROM:-0500
TZOFFSETTO:-0400
TZNAME:EDT
DTSTART:20260308T070000
END:DAYLIGHT
BEGIN:STANDARD
TZOFFSETFROM:-0400
TZOFFSETTO:-0500
TZNAME:EST
DTSTART:20261101T060000
END:STANDARD
BEGIN:DAYLIGHT
TZOFFSETFROM:-0500
TZOFFSETTO:-0400
TZNAME:EDT
DTSTART:20270314T070000
END:DAYLIGHT
BEGIN:STANDARD
TZOFFSETFROM:-0400
TZOFFSETTO:-0500
TZNAME:EST
DTSTART:20271107T060000
END:STANDARD
END:VTIMEZONE
BEGIN:VEVENT
DTSTART;TZID=America/Toronto:20260425T080000
DTEND;TZID=America/Toronto:20260425T170000
DTSTAMP:20260425T121523
CREATED:20260416T221242Z
LAST-MODIFIED:20260417T171455Z
UID:2175-1777104000-1777136400@www.skipatrol.ca
SUMMARY:Journée de recertification des instructeurs
DESCRIPTION:
URL:https://www.skipatrol.ca/gatineau/fr/event/instructor-recertification-recertification-des-instructeurs/
LOCATION:Nakkertok
END:VEVENT
BEGIN:VEVENT
DTSTART;TZID=America/Toronto:20260426T080000
DTEND;TZID=America/Toronto:20260426T170000
DTSTAMP:20260425T121523
CREATED:20260417T171528Z
LAST-MODIFIED:20260417T171528Z
UID:2184-1777190400-1777222800@www.skipatrol.ca
SUMMARY:Journée de recertification des instructeurs
DESCRIPTION:
URL:https://www.skipatrol.ca/gatineau/fr/event/journee-de-recertification-des-instructeurs/
LOCATION:Nakkertok
END:VEVENT
END:VCALENDAR